BEGIN:VCALENDAR
VERSION:2.0
PRODID:-//SP Wil - ECPv6.15.6//NONSGML v1.0//EN
CALSCALE:GREGORIAN
METHOD:PUBLISH
X-WR-CALNAME:SP Wil
X-ORIGINAL-URL:https://sp-wil.ch
X-WR-CALDESC:Veranstaltungen im SP Wil
REFRESH-INTERVAL;VALUE=DURATION:PT1H
X-Robots-Tag:noindex
X-PUBLISHED-TTL:PT1H
BEGIN:VTIMEZONE
TZID:Europe/Zurich
BEGIN:DAYLIGHT
TZOFFSETFROM:+0100
TZOFFSETTO:+0200
TZNAME:CEST
DTSTART:20250330T010000
END:DAYLIGHT
BEGIN:STANDARD
TZOFFSETFROM:+0200
TZOFFSETTO:+0100
TZNAME:CET
DTSTART:20251026T010000
END:STANDARD
BEGIN:DAYLIGHT
TZOFFSETFROM:+0100
TZOFFSETTO:+0200
TZNAME:CEST
DTSTART:20260329T010000
END:DAYLIGHT
BEGIN:STANDARD
TZOFFSETFROM:+0200
TZOFFSETTO:+0100
TZNAME:CET
DTSTART:20261025T010000
END:STANDARD
BEGIN:DAYLIGHT
TZOFFSETFROM:+0100
TZOFFSETTO:+0200
TZNAME:CEST
DTSTART:20270328T010000
END:DAYLIGHT
BEGIN:STANDARD
TZOFFSETFROM:+0200
TZOFFSETTO:+0100
TZNAME:CET
DTSTART:20271031T010000
END:STANDARD
END:VTIMEZONE
BEGIN:VEVENT
DTSTART;TZID=Europe/Zurich:20260501T170000
DTEND;TZID=Europe/Zurich:20260501T220000
DTSTAMP:20260421T142051
CREATED:20260104T143539Z
LAST-MODIFIED:20260421T112330Z
UID:90364-1777654800-1777672800@sp-wil.ch
SUMMARY:1. Mai Feier
DESCRIPTION:Gemeinsam gegen Krieg & Krise\nDie SP Wil lädt zur 1.Mai-Feier 2026 ins italienische Kulturzentrum ein!\nUns erwartet eine Festrede von Nationalrat Arbër Bullakaj (SP)\, musikalische Unterhaltung des Duos SchärerBommer und selbstverständlich gutes italienisches Essen. \n  \n17:00 Uhr:    Musik und Apéro\n18:00 Uhr:    Begrüssung\, Festrede von Arbër Bullakaj (Nationalrat SP)\nanschliessend musikalische Unterhaltung und gemütliches Beisammensein \n\n  \n  \n \n 
URL:https://sp-wil.ch/veranstaltung/1-mai_2026/
LOCATION:Centro Italiano\, Titlisstrasse 10\, Wil SG\, 9500\, Switzerland
END:VEVENT
END:VCALENDAR